BEGIN:VCALENDAR
PRODID:-//eluceo/ical//2.0/EN
VERSION:2.0
CALSCALE:GREGORIAN
BEGIN:VEVENT
UID:33731cf54e78b22a57630f82e42b79ac
DTSTAMP:20260423T221838Z
SUMMARY:31st Annual Virginia Festival of Jewish Film: The Catskills
DESCRIPTION:Simon Family JCC\nJCC Event Calendar\nhttps://jcc.jewishva.org/
 jcc-event-calendar/31st-annual-virginia-festival-of-jewish-film-1683571103
 -437347\n\nThe Catskills\n\nSunday\, February 25 ● 2:30 PM\nThe Samuel C
 . Johnson Theater at Norfolk Academy\n\nPreceded by the short film "The Pe
 acock That Passed Over" and followed by a conversation with documentary su
 bject Steve Gold.\n\nDirector Lex Gillespie ● 86 min ● United States 
 ● 2023 ● English\n\nWith a trove of lost-and-found archival footage an
 d a cast of characters endowed with the gift of gab\, The Catskills journe
 ys into the storied mountain getaway north of New York City that se...
DTSTART;TZID=America/New_York:20240225T143000
DTEND;TZID=America/New_York:20240225T163000
END:VEVENT
END:VCALENDAR
