BEGIN:VCALENDAR
PRODID:-//eluceo/ical//2.0/EN
VERSION:2.0
CALSCALE:GREGORIAN
BEGIN:VEVENT
UID:aab48510a753a266518f8e71fdd0fcb3
DTSTAMP:20260423T221832Z
SUMMARY:31st Annual Virginia Festival of Jewish Film: SHTTL
DESCRIPTION:Simon Family JCC\nJCC Event Calendar\nhttps://jcc.jewishva.org/
 jcc-event-calendar/31st-annual-virginia-festival-of-jewish-film-1683571155
 -437348\n\nSHTTL\n\nMonday\, February 26 ● 7:15 PM\nNaro Expanded Cinema
 \, 1507 Colley Avenue\, Norfolk\n\nDirector Ady Walter ● 109 min ● Ukr
 aine ● 2023 ● Yiddish with English subtitles\n\nPhotographed in a shte
 tl that the production team constructed outside Kyiv\, this single-shot fi
 lm is entirely in Yiddish. Set in the twenty-four hours before the Nazi in
 vasion of Ukraine\, SHTTL tells a story about life\, love\, and hope set i
 n an unnamed Yiddish Ukrainian village at the border of Poland. Amid co...
DTSTART;TZID=America/New_York:20240226T191500
DTEND;TZID=America/New_York:20240226T210000
END:VEVENT
END:VCALENDAR
