BEGIN:VCALENDAR
PRODID:-//eluceo/ical//2.0/EN
VERSION:2.0
CALSCALE:GREGORIAN
BEGIN:VEVENT
UID:583af50128c654fa4d9b26c2d75ef93a
DTSTAMP:20260423T221826Z
SUMMARY:31st Annual Virginia Festival of Jewish Film: The Story of Annette 
 Zelman
DESCRIPTION:Simon Family JCC\nJCC Event Calendar\nhttps://jcc.jewishva.org/
 jcc-event-calendar/31st-annual-virginia-festival-of-jewish-film-1683571199
 -437349\n\nThe Story of Annette Zelman \n\n2 SHOWTIMES\, Wednesday\, Febr
 uary 28 ● 2:30 PM & 7:30 PM\nBeach Cinema Alehouse\n\nDirector Philippe 
 Le Guay ● 93 min ● France ● 2023 ● French with English subtitles\n
 \nWhat begins as a charming wartime romance between Jean—a sweet Catholi
 c boy in Paris—and Annette—his feisty Jewish artist girlfriend—turns
  into a gripping tale of star-crossed lovers in this handsomely realized d
 rama based on actual events. Set in Nazi-occupied Paris\, The Story...
DTSTART;TZID=America/New_York:20240228T000000
DTEND;TZID=America/New_York:20240228T235959
END:VEVENT
END:VCALENDAR
