BEGIN:VCALENDAR
PRODID:-//eluceo/ical//2.0/EN
VERSION:2.0
CALSCALE:GREGORIAN
BEGIN:VEVENT
UID:4129fdbb74f9abad8e373de8cb908c05
DTSTAMP:20260425T232032Z
SUMMARY:A Fun Sunday at the Trampoline Park
DESCRIPTION:Simon Family JCC\nJCC Event Calendar\nhttps://jcc.jewishva.org/
 jcc-event-calendar/a-fun-sunday-at-the-trampoline-park-1706047065-458405\n
 \nMilitary Families! Join us for a fun Sunday at Surge Adventure Park at a
  discounted rate of only $5 for each jumper.\n\nAdmission includes two hou
 rs of jump time\, socks\, party table\, water\, and light snacks.\n\nChild
 ren two and under are free. After registration\, you will be emailed a lin
 k to complete an online waiver.\n\n*Registration opens to the general publ
 ic on Jan. 30th*\n\nSign up today
DTSTART;TZID=America/New_York:20240204T150000
DTEND;TZID=America/New_York:20240204T170000
END:VEVENT
END:VCALENDAR
