BEGIN:VCALENDAR
PRODID:-//eluceo/ical//2.0/EN
VERSION:2.0
CALSCALE:GREGORIAN
BEGIN:VEVENT
UID:0ed57306814903f2140936b1de8498bc
DTSTAMP:20260422T172640Z
SUMMARY:Seniors Prom
DESCRIPTION:Simon Family JCC\nJCC Event Calendar\nhttps://jcc.jewishva.org/
 jcc-event-calendar/active-adult-dance-1692823054-446460\n\nTo conclude Sen
 iors Health and Fitness Day\, join JCC Seniors and the United Jewish Feder
 ation of Tidewater for a special celebration: Senior’s Prom on May 29th 
 at 4:00 PM. This is a chance to dance\, socialize\, and make new memories.
  Let&#39\;s cap off the day of health and wellness with an evening of fun 
 and camaraderie.\n\nSee you there! This event is free and open to the comm
 unity.\n\nRVSP today!\n\n\n    \n\n\nFor more information contact Mia Klei
 n at MKlein@UJFT.org or 757-452-3184
DTSTART;TZID=America/New_York:20240529T160000
DTEND;TZID=America/New_York:20240529T180000
END:VEVENT
END:VCALENDAR
