BEGIN:VCALENDAR
PRODID:-//eluceo/ical//2.0/EN
VERSION:2.0
CALSCALE:GREGORIAN
BEGIN:VEVENT
UID:3ca337c4eb37fa0235dd31bb1d26a54d
DTSTAMP:20260425T110324Z
SUMMARY:Active Adults Birthday Celebration
DESCRIPTION:Simon Family JCC\nJCC Event Calendar\nhttps://jcc.jewishva.org/
 jcc-event-calendar/active-adults-birthday-celebration-1690467627-444285\n\
 nACTIVE ADULTS - Celebrate our community birthdays! \n\nAre you over 55?  
 \nJOIN US! Have some cake!\nDo you have a birthday this month?\nLet us hon
 or your special day!
DTSTART;TZID=America/New_York:20240301T123000
DTEND;TZID=America/New_York:20240301T143000
END:VEVENT
END:VCALENDAR
