BEGIN:VCALENDAR
PRODID:-//eluceo/ical//2.0/EN
VERSION:2.0
CALSCALE:GREGORIAN
BEGIN:VEVENT
UID:395109def9910fbe3cda2ee3b2885c29
DTSTAMP:20260425T163245Z
SUMMARY:Active Adults Birthday Celebration
DESCRIPTION:Simon Family JCC\nJCC Event Calendar\nhttps://jcc.jewishva.org/
 jcc-event-calendar/active-adults-birthday-celebration-1690467627-456601\n\
 nACTIVE ADULTS - Celebrate our community birthdays! Are you over 55? JOIN 
 US! Have some cake! Do you have a birthday this month? Let us honor your s
 pecial day!
DTSTART;TZID=America/New_York:20231201T123000
DTEND;TZID=America/New_York:20231201T143000
END:VEVENT
END:VCALENDAR
