BEGIN:VCALENDAR
PRODID:-//eluceo/ical//2.0/EN
VERSION:2.0
CALSCALE:GREGORIAN
BEGIN:VEVENT
UID:d034459e0276bb9f00c197e9ad4a7c20
DTSTAMP:20260422T095316Z
SUMMARY:Community Yom Hashoah
DESCRIPTION:Simon Family JCC\nJCC Event Calendar\nhttps://jcc.jewishva.org/
 jcc-event-calendar/an-evening-of-prayer-remembrance-461538\n\nAnnual Yom H
 ashoah Commemoration hosted by the Holocaust Commission of UJFT.  Celebra
 te our student and educator award winners\, honor survivors\, rescuers\, a
 nd liberators.  
DTSTART;TZID=America/New_York:20240505T184500
DTEND;TZID=America/New_York:20240505T204500
END:VEVENT
END:VCALENDAR
