BEGIN:VCALENDAR
PRODID:-//eluceo/ical//2.0/EN
VERSION:2.0
CALSCALE:GREGORIAN
BEGIN:VEVENT
UID:5cbf3735912705e7d54148315a971d2f
DTSTAMP:20260423T034254Z
SUMMARY:Antisemitism: Then & Now\, Right & Left
DESCRIPTION:Simon Family JCC\nJCC Event Calendar\nhttps://jcc.jewishva.org/
 jcc-event-calendar/antisemitism-then--now-right--left-1707231935-459252\n\
 nThis 6-week course taught by Rabbi Michael Panitz will comprehensively ex
 plore the historical and contemporary manifestations of prejudice against 
 Jewish communities.\n\nBeginning with the historical roots of antisemitism
 \, the course unveils its evolution through history\, shedding light on it
 s ideological underpinnings. Through a critical lens\, participants dissec
 t antisemitism within both left-wing and right-wing ideologies\, as well a
 s how antisemitism shows up in Islamic fundamentalism.
DTSTART;TZID=America/New_York:20240307T120000
DTEND;TZID=America/New_York:20240307T133000
END:VEVENT
END:VCALENDAR
