BEGIN:VCALENDAR
PRODID:-//eluceo/ical//2.0/EN
VERSION:2.0
CALSCALE:GREGORIAN
BEGIN:VEVENT
UID:07d7aa0b52c46e115f4b95c88c3c0cc1
DTSTAMP:20260422T095451Z
SUMMARY:Baby and Me at the JCC
DESCRIPTION:Simon Family JCC\nJCC Event Calendar\nhttps://jcc.jewishva.org/
 jcc-event-calendar/baby-and-me-at-the-jcc-14-459076\n\nFree + Open to ALL 
 GUARDIANS with babies up to 24 months.\n\nEvery other Tuesday and periodic
  Fridays at the Simon Family JCC!  \nNo registration required. JCC membe
 rship not required. \n\nJoin other parents for an hour of coffee and othe
 r refreshments\, baby activities and games\, and much needed parent talk!\
 n\nIn partnership with Strelitz International Academy. For more informatio
 n\, contact Sarah Cooper at scooper@ujft.org.
DTSTART;TZID=America/New_York:20240510T090000
DTEND;TZID=America/New_York:20240510T090000
END:VEVENT
END:VCALENDAR
