BEGIN:VCALENDAR
PRODID:-//eluceo/ical//2.0/EN
VERSION:2.0
CALSCALE:GREGORIAN
BEGIN:VEVENT
UID:6dca4251f97f54ec4f277e2403ce5eea
DTSTAMP:20260421T130010Z
SUMMARY:Baby and Me at the JCC
DESCRIPTION:Simon Family JCC\nJCC Event Calendar\nhttps://jcc.jewishva.org/
 jcc-event-calendar/baby-and-me-at-the-jcc-34-466160\n\nFree + Open to ALL 
 GUARDIANS with babies up to 24 months.\n\nEvery other Friday at the Simon
  Family JCC!  \nNo registration required. JCC membership not required. 
 \n\nJoin other parents for an hour of coffee and other refreshments\, baby
  activities and games\, and much needed parent talk!\n\nIn partnership wit
 h Strelitz International Academy. For more information\, contact Sarah Coo
 per at scooper@ujft.org.
DTSTART;TZID=America/New_York:20240621T090000
DTEND;TZID=America/New_York:20240621T100000
END:VEVENT
END:VCALENDAR
