BEGIN:VCALENDAR
PRODID:-//eluceo/ical//2.0/EN
VERSION:2.0
CALSCALE:GREGORIAN
BEGIN:VEVENT
UID:2032a3f3819993f00ca3b8a4b505ba18
DTSTAMP:20260425T145238Z
SUMMARY:Baby and Me at the JCC
DESCRIPTION:Simon Family JCC\nJCC Event Calendar\nhttps://jcc.jewishva.org/
 jcc-event-calendar/baby-and-me-at-the-jcc-6-447007\n\n \n\nFree + Open to
  ALL GUARDIANS with babies up to 24 months.\n\nEvery other Tuesday at the
  Simon Family JCC!  \n\nNo registration required.  Join other parents 
 and our Youth & Family Coordinator\, Nofar Trem\, for an hour of coffee an
 d a sweet treat\, baby activities and games\, and much needed parent talk!
   \n\nJCC membership not required. For more information\, contact Nofar
  at ntrem@ujft.org.\n\nFree + Open to ALL GUARDIANS with babies up to 24 
 months.\n\nEvery other Tuesday at the ...
DTSTART;TZID=America/New_York:20231128T090000
DTEND;TZID=America/New_York:20231128T100000
END:VEVENT
END:VCALENDAR
