BEGIN:VCALENDAR
PRODID:-//eluceo/ical//2.0/EN
VERSION:2.0
CALSCALE:GREGORIAN
BEGIN:VEVENT
UID:65162fc25b245b42aebf60d31dc0fd57
DTSTAMP:20260424T155311Z
SUMMARY:Baby and Me at the JCC
DESCRIPTION:Simon Family JCC\nJCC Event Calendar\nhttps://jcc.jewishva.org/
 jcc-event-calendar/baby-and-me-at-the-jcc-8-453444\n\nFree + Open to ALL G
 UARDIANS with babies up to 24 months.\n\nEvery other Tuesday at the Simon 
 Family JCC!\nNo registration required. JCC membership not required. \n\nJ
 oin other parents for an hour of coffee and other refreshments\, baby acti
 vities and games\, and much needed parent talk!\n\nIn partnership with Str
 elitz International Academy. For more information\, contact Sarah Cooper a
 t scooper@ujft.org.
DTSTART;TZID=America/New_York:20231212T090000
DTEND;TZID=America/New_York:20231212T100000
END:VEVENT
END:VCALENDAR
