BEGIN:VCALENDAR
PRODID:-//eluceo/ical//2.0/EN
VERSION:2.0
CALSCALE:GREGORIAN
BEGIN:VEVENT
UID:6798612ab379ee96a59f97e3a3491fb9
DTSTAMP:20260419T190812Z
SUMMARY:Baby and Me at the JCC
DESCRIPTION:Simon Family JCC\nJCC Event Calendar\nhttps://jcc.jewishva.org/
 jcc-event-calendar/baby-and-me-at-the-jcc-87-466162\n\nFree + Open to ALL 
 GUARDIANS with babies up to 24 months.\n\nEvery other Friday at the Simon
  Family JCC!  \nNo registration required. JCC membership not required. 
 \n\nJoin other parents for an hour of coffee and other refreshments\, baby
  activities and games\, and much needed parent talk!\n\nIn partnership wit
 h Strelitz International Academy. For more information\, contact Sarah Coo
 per at scooper@ujft.org.
DTSTART;TZID=America/New_York:20240705T090000
DTEND;TZID=America/New_York:20240705T100000
END:VEVENT
END:VCALENDAR
