BEGIN:VCALENDAR
PRODID:-//eluceo/ical//2.0/EN
VERSION:2.0
CALSCALE:GREGORIAN
BEGIN:VEVENT
UID:7d8463954deb25a5b9ac2cb938006d94
DTSTAMP:20260424T092838Z
SUMMARY:Baby and Me at the JCC
DESCRIPTION:Simon Family JCC\nJCC Event Calendar\nhttps://jcc.jewishva.org/
 jcc-event-calendar/baby-and-me-at-the-jcc-99-456213\n\nFree + Open to ALL 
 GUARDIANS with babies up to 24 months.\n\nSpecial Friday meet time!\n\nNo 
 registration required. JCC membership not required. \n\nJoin other parent
 s for an hour of coffee and other refreshments\, baby activities and games
 \, and much needed parent talk!\n\nIn partnership with Strelitz Internatio
 nal Academy. For more information\, contact Sarah Cooper at scooper@ujft.o
 rg.
DTSTART;TZID=America/New_York:20240119T090000
DTEND;TZID=America/New_York:20240119T100000
END:VEVENT
END:VCALENDAR
