BEGIN:VCALENDAR
PRODID:-//eluceo/ical//2.0/EN
VERSION:2.0
CALSCALE:GREGORIAN
BEGIN:VEVENT
UID:a89ffbc1c222e6548d93b1b7a8bb254a
DTSTAMP:20260419T160326Z
SUMMARY:BBYO Spring Convention
DESCRIPTION:Simon Family JCC\nJCC Event Calendar\nhttps://jcc.jewishva.org/
 jcc-event-calendar/bbyo-spring-convention-1719243982-470297\n\nAt Camp Thu
 nderbird\n\nContact Courtney Krutoy at ckrutoy@bbyo.org for info.
DTSTART;TZID=America/New_York:20250404T150000
DTEND;TZID=America/New_York:20250406T150000
END:VEVENT
END:VCALENDAR
