BEGIN:VCALENDAR
PRODID:-//eluceo/ical//2.0/EN
VERSION:2.0
CALSCALE:GREGORIAN
BEGIN:VEVENT
UID:36f1ab422cb6772c852ee81234ce4d39
DTSTAMP:20260425T183323Z
SUMMARY:Ben Gurion Day in the USA Webinar
DESCRIPTION:Simon Family JCC\nJCC Event Calendar\nhttps://jcc.jewishva.org/
 jcc-event-calendar/ben-gurion-day-in-the-usa-452276\n\nA journey into the 
 heart of Israel’s rich history and heritage!\n\nWe invite you to an excl
 usive webinar powered by Americans for Ben-Gurion University (A4BGU) and t
 he Ben-Gurion Heritage Institute.  Immerse yourself in an engaging conver
 sation as Paula Kabalo and Eitan Donyets take us on an insightful journey 
 through the legacy of David Ben-Gurion\, a visionary leader who shaped the
  course of a nation. Discover the remarkable history\, values\, and enduri
 ng impact of Ben-Gurion’s vision fo...
DTSTART;TZID=America/New_York:20231119T120000
DTEND;TZID=America/New_York:20231119T140000
END:VEVENT
END:VCALENDAR
