BEGIN:VCALENDAR
PRODID:-//eluceo/ical//2.0/EN
VERSION:2.0
CALSCALE:GREGORIAN
BEGIN:VEVENT
UID:4082eb22c59f55acee89cc7839d58c77
DTSTAMP:20260420T004237Z
SUMMARY:Ben Gurion Day with Shinshinim
DESCRIPTION:Simon Family JCC\nJCC Event Calendar\nhttps://jcc.jewishva.org/
 jcc-event-calendar/ben-gurion-day-with-shinshinim-1731611257-480391\n\nBen
  Gurion Day with the Shinshinim.  \n\nPlease allow a moment for informat
 ion + registration to load below.\n\n\n\n \n\n\nLearn more about Ben Guri
 on Day through the resources below.\n\n\n 
DTSTART;TZID=America/New_York:20241208T130000
DTEND;TZID=America/New_York:20241208T150000
END:VEVENT
END:VCALENDAR
