BEGIN:VCALENDAR
PRODID:-//eluceo/ical//2.0/EN
VERSION:2.0
CALSCALE:GREGORIAN
BEGIN:VEVENT
UID:1c701168ae7f86acf551032b6fea0759
DTSTAMP:20260423T003215Z
SUMMARY:Brews & Brownies with Ambassador Brad Gordon
DESCRIPTION:Simon Family JCC\nJCC Event Calendar\nhttps://jcc.jewishva.org/
 jcc-event-calendar/brews--brownies-with-ambassador-brad-gordon-1709738985-
 461482\n\nJoin YAD for an exclusive event following the community briefing
  with Ambassador Brad Gordon. Please wait for info below to load.\n\n 
DTSTART;TZID=America/New_York:20240326T204500
DTEND;TZID=America/New_York:20240326T220000
END:VEVENT
END:VCALENDAR
