BEGIN:VCALENDAR
PRODID:-//eluceo/ical//2.0/EN
VERSION:2.0
CALSCALE:GREGORIAN
BEGIN:VEVENT
UID:176b1e694e45c73ab774019ebc390ade
DTSTAMP:20260420T014111Z
SUMMARY:Coffe and Conversation
DESCRIPTION:Simon Family JCC\nJCC Event Calendar\nhttps://jcc.jewishva.org/
 jcc-event-calendar/coffe-and-conversation-5-469984\n\nThe United Jewish Fe
 deration of Tidewater and Simon Family JCC invites curious members to gath
 er to discuss timely topics\, from the war in Israel to the latest health 
 technology and everything in between. Bring an article that intrigues you 
 or something you’ve read that has you stumped. Let’s talk about it!
DTSTART;TZID=America/New_York:20240711T130000
DTEND;TZID=America/New_York:20240711T140000
END:VEVENT
END:VCALENDAR
