BEGIN:VCALENDAR
PRODID:-//eluceo/ical//2.0/EN
VERSION:2.0
CALSCALE:GREGORIAN
BEGIN:VEVENT
UID:92fc45a669d6ddf62e3ce6249321b22d
DTSTAMP:20260421T030521Z
SUMMARY:Coffee and Conversation
DESCRIPTION:Simon Family JCC\nJCC Event Calendar\nhttps://jcc.jewishva.org/
 jcc-event-calendar/coffee-and-conversation-465538\n\nThe United Jewish Fed
 eration of Tidewater and Simon Family JCC invites curious members to gathe
 r to discuss timely topics\, from the war in Israel to the latest health t
 echnology and everything in between. Bring an article that intrigues you o
 r something you’ve read that has you stumped. Let’s talk about it! \n\
 nPlease RSVP below.
DTSTART;TZID=America/New_York:20240606T130000
DTEND;TZID=America/New_York:20240606T140000
END:VEVENT
END:VCALENDAR
