BEGIN:VCALENDAR
PRODID:-//eluceo/ical//2.0/EN
VERSION:2.0
CALSCALE:GREGORIAN
BEGIN:VEVENT
UID:b1636d936bd12f37f7bed163c7740b8b
DTSTAMP:20260424T071348Z
SUMMARY:Coffee and Conversation at the JCC
DESCRIPTION:Simon Family JCC\nJCC Event Calendar\nhttps://jcc.jewishva.org/
 jcc-event-calendar/coffee-and-conversation-at-the-jcc-1704923053-457435\n\
 nCurrent event conversation for all ages!  Open to JCC members and guests
 . Free to attend.\n\nPlease allow widget below to load.\n\n 
DTSTART;TZID=America/New_York:20240229T130000
DTEND;TZID=America/New_York:20240229T140000
END:VEVENT
END:VCALENDAR
