BEGIN:VCALENDAR
PRODID:-//eluceo/ical//2.0/EN
VERSION:2.0
CALSCALE:GREGORIAN
BEGIN:VEVENT
UID:4d21556348f885c1c2f11b986a8be683
DTSTAMP:20260419T135220Z
SUMMARY:Coffee and Conversation
DESCRIPTION:Simon Family JCC\nJCC Event Calendar\nhttps://jcc.jewishva.org/
 jcc-event-calendar/coffee-and-conversation-aug-2024-473048\n\nThe United J
 ewish Federation of Tidewater and Simon Family JCC invites curious members
  to gather to discuss timely topics\, from the war in Israel to the latest
  health technology and everything in between. Bring an article that intrig
 ues you or something you’ve read that has you stumped. Let’s talk abou
 t it!
DTSTART;TZID=America/New_York:20240801T130000
DTEND;TZID=America/New_York:20240801T140000
END:VEVENT
END:VCALENDAR
