BEGIN:VCALENDAR
PRODID:-//eluceo/ical//2.0/EN
VERSION:2.0
CALSCALE:GREGORIAN
BEGIN:VEVENT
UID:7ea47ec36da13ff5288f377bbe5783e0
DTSTAMP:20260425T190719Z
SUMMARY:Come Together Series - The Sound of Israel
DESCRIPTION:Simon Family JCC\nJCC Event Calendar\nhttps://jcc.jewishva.org/
 jcc-event-calendar/come-together-series---the-sound-of-israel-1684029007-4
 38151\n\nLooking at the music of Israel from the last 50 years!\n\nSeries 
 co-sponsored by Temple Israel\, Temple Emanuel\, Kehillat Bet Hamidrash/Ke
 mpsville Conservative\, and Congregation Beth El. Open to the entire Jewi
 sh community and their friends.
DTSTART;TZID=America/New_York:20231105T140000
DTEND;TZID=America/New_York:20231105T160000
END:VEVENT
END:VCALENDAR
