BEGIN:VCALENDAR
PRODID:-//eluceo/ical//2.0/EN
VERSION:2.0
CALSCALE:GREGORIAN
BEGIN:VEVENT
UID:addbfe19067ea7976ce78786e4ff95c0
DTSTAMP:20260421T173026Z
SUMMARY:Community Impact Day: Creating Kindness and Jewish Camp Curiosity
DESCRIPTION:Simon Family JCC\nJCC Event Calendar\nhttps://jcc.jewishva.org/
 jcc-event-calendar/community-impact-day-creating-kindness-and-jewish-camp-
 curiosity-1728401092-478226\n\nCamp Fair: Building Jewish Identity Through
  Summer Fun\nExplore the world of Jewish summer camps! Families can meet r
 epresentatives from a variety of Jewish camps from across the Eastern regi
 on\, including Camp JCC\, 6 Points\, Camp Harlem\, Airy & Louise\, Sababa 
 Beachaway\, Camp Ramah\, and Capital Camps. Learn how these camps foster a
  strong sense of Jewish identity\, build community\, and create lasting me
 mories that shape children’s lives.\n\nMitzvah Mall: Making a Difference
 \, One Dollar at a...
DTSTART;TZID=America/New_York:20241124T100000
DTEND;TZID=America/New_York:20241124T120000
END:VEVENT
END:VCALENDAR
