BEGIN:VCALENDAR
PRODID:-//eluceo/ical//2.0/EN
VERSION:2.0
CALSCALE:GREGORIAN
BEGIN:VEVENT
UID:3a6ac322b3084603d4dee8f16b31ef58
DTSTAMP:20260426T021629Z
SUMMARY:History Behind Fiddler: The Iron Cauldron
DESCRIPTION:Simon Family JCC\nJCC Event Calendar\nhttps://jcc.jewishva.org/
 jcc-event-calendar/history-behind-fiddler-the-iron-cauldron-444805\n\nThe 
 History Behind Fiddler on the Roof with Rabbi Michael Panitz\n\nOne of the
  largest waves in our long Jewish history of dispersal and migration was t
 he flight of three million Jews from Tsarist and Revolutionary-Era Russia.
   As the Safam song lyric phrases it\, we came to this land "fleeing pers
 ecution and the army of the Tsar."  Why did the Jewish people\, so inured
  to discrimination\, collectively decide to leave the Pale of Settlement?\
 n\nIn this two-session course\, instructed by Rabbi M...
DTSTART;TZID=America/New_York:20230905T110000
DTEND;TZID=America/New_York:20230905T120000
END:VEVENT
END:VCALENDAR
