BEGIN:VCALENDAR
PRODID:-//eluceo/ical//2.0/EN
VERSION:2.0
CALSCALE:GREGORIAN
BEGIN:VEVENT
UID:2153a9bc8af735548da8483e0b7b1d9c
DTSTAMP:20260423T025505Z
SUMMARY:Indecent @Generic Theater
DESCRIPTION:Simon Family JCC\nJCC Event Calendar\nhttps://jcc.jewishva.org/
 jcc-event-calendar/indecent-generic-theater-2-466420\n\nPlease allow info 
 below to load.
DTSTART;TZID=America/New_York:20240525T000000
DTEND;TZID=America/New_York:20240525T235959
END:VEVENT
END:VCALENDAR
