BEGIN:VCALENDAR
PRODID:-//eluceo/ical//2.0/EN
VERSION:2.0
CALSCALE:GREGORIAN
BEGIN:VEVENT
UID:766cf864cfe227486739a251de4e81cc
DTSTAMP:20260421T180017Z
SUMMARY:Indecent - Talkback with Rabbi Panitz
DESCRIPTION:Simon Family JCC\nJCC Event Calendar\nhttps://jcc.jewishva.org/
 jcc-event-calendar/indecent-generic-theater-3-466421\n\nPlease allow info 
 below to load.
DTSTART;TZID=America/New_York:20240526T000000
DTEND;TZID=America/New_York:20240526T235959
END:VEVENT
END:VCALENDAR
