BEGIN:VCALENDAR
PRODID:-//eluceo/ical//2.0/EN
VERSION:2.0
CALSCALE:GREGORIAN
BEGIN:VEVENT
UID:09a1d3b3eb307ba341be3f1628f82b6d
DTSTAMP:20260422T111250Z
SUMMARY:Indecent @ Generic Theater
DESCRIPTION:Simon Family JCC\nJCC Event Calendar\nhttps://jcc.jewishva.org/
 jcc-event-calendar/indecent-generic-theater-466419\n\nPlease allow info be
 low to load.
DTSTART;TZID=America/New_York:20240524T000000
DTEND;TZID=America/New_York:20240524T235959
END:VEVENT
END:VCALENDAR
