BEGIN:VCALENDAR
PRODID:-//eluceo/ical//2.0/EN
VERSION:2.0
CALSCALE:GREGORIAN
BEGIN:VEVENT
UID:2fa4667f7c441a87194f38a2b612e5f1
DTSTAMP:20260421T031825Z
SUMMARY:Indecent @ Generic Theater
DESCRIPTION:Simon Family JCC\nJCC Event Calendar\nhttps://jcc.jewishva.org/
 jcc-event-calendar/indecent-generic-theater-6-466425\n\nPlease allow info 
 below to load.
DTSTART;TZID=America/New_York:20240602T000000
DTEND;TZID=America/New_York:20240602T235959
END:VEVENT
END:VCALENDAR
