BEGIN:VCALENDAR
PRODID:-//eluceo/ical//2.0/EN
VERSION:2.0
CALSCALE:GREGORIAN
BEGIN:VEVENT
UID:7c99a1d9a937b5c646db02b879015e34
DTSTAMP:20260426T023725Z
SUMMARY:Israel: A Quick Historical Refresher
DESCRIPTION:Simon Family JCC\nJCC Event Calendar\nhttps://jcc.jewishva.org/
 jcc-event-calendar/israel-a-quick-historical-refresher-452949\n\nKnowing t
 he history of the Israeli-Palestinian conflict and the facts behind Israel
 ’s historic commitment to peace are critical to understanding the region
  today. Presented by Ambassador Brad Gordon\, who recently retired from AI
 PAC after twenty-five years as a member of its senior staff\, this session
  will provide a fast-paced history of the Israeli-Palestinian conflict. \
 n\nPart 3 of our 3 part Empowering Student Series.\n\nFree to attend\, Re
 gistration Required.\n\nRegister Today
DTSTART;TZID=America/New_York:20240117T193000
DTEND;TZID=America/New_York:20240117T213000
END:VEVENT
END:VCALENDAR
