BEGIN:VCALENDAR
PRODID:-//eluceo/ical//2.0/EN
VERSION:2.0
CALSCALE:GREGORIAN
BEGIN:VEVENT
UID:fafc1555d7726f024c60ac6be4382759
DTSTAMP:20260423T114344Z
SUMMARY:Brad Gordon - Israel Today
DESCRIPTION:Simon Family JCC\nJCC Event Calendar\nhttps://jcc.jewishva.org/
 jcc-event-calendar/israel-today-1701868517-453606\n\nA conversation with A
 mbassador Brad Gordon.\n\nPlease wait for information below to load.
DTSTART;TZID=America/New_York:20240326T193000
DTEND;TZID=America/New_York:20240326T203000
END:VEVENT
END:VCALENDAR
