BEGIN:VCALENDAR
PRODID:-//eluceo/ical//2.0/EN
VERSION:2.0
CALSCALE:GREGORIAN
BEGIN:VEVENT
UID:03106c16bce24476c95f0f94c3b8340d
DTSTAMP:20260422T095155Z
SUMMARY:Israeli Chef's Table Experience
DESCRIPTION:Simon Family JCC\nJCC Event Calendar\nhttps://jcc.jewishva.org/
 jcc-event-calendar/israeli-chefs-table-experience-1711628524-463147\n\nAs 
 part of Tidewater&#39\;s Yom Ha&#39\;Atzmaut commemorations\, Chef Yaniv C
 ohen will visit our community to prepare and serve an exclusive menu. The 
 dinner will include an Israeli wine bar and an opportunity to meet Chef Co
 hen.\n\nIsraeli chef Yaniv Cohen grew up in Israel in a Sephardic Jewish f
 amily. His passion for Israeli flavors and spices propelled a relocation f
 rom Israel to Miami to open the kosher restaurant\, JAFFA. Chef Cohen has 
 been featured on the hit Netflix show\, â€œBest Leftovers Everâ...
DTSTART;TZID=America/New_York:20240516T190000
DTEND;TZID=America/New_York:20240516T210000
END:VEVENT
END:VCALENDAR
