BEGIN:VCALENDAR
PRODID:-//eluceo/ical//2.0/EN
VERSION:2.0
CALSCALE:GREGORIAN
BEGIN:VEVENT
UID:2a4e3aaf06d3dd03b1586bb198e0357f
DTSTAMP:20260425T212441Z
SUMMARY:Israeli Dancing at the Simon Family JCC
DESCRIPTION:Simon Family JCC\nJCC Event Calendar\nhttps://jcc.jewishva.org/
 jcc-event-calendar/israeli-dancing-at-the-simon-family-jcc-1691070927-4479
 20\n\nWhy Take Israeli Dancing?\n•Cultural Heritage: Israeli dance is de
 eply rooted in the history and culture of Israel.\n•Community Building: 
 Dance classes offer a unique opportunity for individuals to come together\
 , build friendships\, and foster a sense of community. These classes can b
 ecome a supportive and welcoming space where people from diverse backgroun
 ds can bond over a shared passion for Israeli dance.\n•Physical and Ment
 al Well-being: Dancing is a wonderful form of exercise...
DTSTART;TZID=America/New_York:20230920T190000
DTEND;TZID=America/New_York:20230920T201500
END:VEVENT
END:VCALENDAR
