BEGIN:VCALENDAR
PRODID:-//eluceo/ical//2.0/EN
VERSION:2.0
CALSCALE:GREGORIAN
BEGIN:VEVENT
UID:4313d792148831be61b765277d95fecb
DTSTAMP:20260422T095311Z
SUMMARY:JCC Annual Fishing Derby
DESCRIPTION:Simon Family JCC\nJCC Event Calendar\nhttps://jcc.jewishva.org/
 jcc-event-calendar/jcc-annual-fishing-derby-464234\n\nOpen to all anglers\
 , Lake Sandler will be open to shore-cast fishing for this one special day
  catch-and-release event.  Prizes given for largest fish hourly\, as well
  as raffle prizes. There will be bait\, lures\, snacks\, and drinks for pu
 rchase. Life vests and lifeguards will be on site\, and all children under
  13 years old must be accompanied by an adult. First cast is at 1PM\, with
  last cast at 3:55PM. 10$ Entry fee includes a JCC all-access day pass. Re
 gister at JewishVA.org/FishingDerby
DTSTART;TZID=America/New_York:20240505T130000
DTEND;TZID=America/New_York:20240505T160000
END:VEVENT
END:VCALENDAR
