BEGIN:VCALENDAR
PRODID:-//eluceo/ical//2.0/EN
VERSION:2.0
CALSCALE:GREGORIAN
BEGIN:VEVENT
UID:1d4b212459392d5913e3d68894b45b23
DTSTAMP:20260423T010218Z
SUMMARY:JCC Building CLOSED
DESCRIPTION:Simon Family JCC\nJCC Event Calendar\nhttps://jcc.jewishva.org/
 jcc-event-calendar/jcc-building-closed-463461\n\nThe JCC building will be 
 closed in observance of Passover.
DTSTART;TZID=America/New_York:20240423T000000
DTEND;TZID=America/New_York:20240423T235959
END:VEVENT
END:VCALENDAR
