BEGIN:VCALENDAR
PRODID:-//eluceo/ical//2.0/EN
VERSION:2.0
CALSCALE:GREGORIAN
BEGIN:VEVENT
UID:69a5f709048914c104ffc7add2fa84c0
DTSTAMP:20260424T222021Z
SUMMARY:JCC Book Club
DESCRIPTION:Simon Family JCC\nJCC Event Calendar\nhttps://jcc.jewishva.org/
 jcc-event-calendar/jcc-senior-book-club-439392\n\nIf you enjoy reading and
  discussing books with others\, this group is for you. \nThe discussions 
 are lively\, informative and at times\, soul-searching. Join us!\nThis mee
 tings Book:  To be determined\n\nThird Monday of each month\n1:30 PM – 
 3:00 PM\nIn-person or via Zoom\nPrice: Free
DTSTART;TZID=America/New_York:20231218T133000
DTEND;TZID=America/New_York:20231218T143000
END:VEVENT
END:VCALENDAR
