BEGIN:VCALENDAR
PRODID:-//eluceo/ical//2.0/EN
VERSION:2.0
CALSCALE:GREGORIAN
BEGIN:VEVENT
UID:5a4f4405171c392d86053e098fa5c2bc
DTSTAMP:20260422T041052Z
SUMMARY:JCC Senior Club
DESCRIPTION:Simon Family JCC\nJCC Event Calendar\nhttps://jcc.jewishva.org/
 jcc-event-calendar/jcc-senior-club-featuring-465537\n\nWith a special pres
 entation of THE DAYBREAK SINGERS  who will be singing patriotic songs for
  Memorial Day for the JCC Seniors Club!\n\nJCC Seniors Club meets on the 3
 rd Wednesday of each month\n12:00 p.m. - 2:00 p.m.\n$15 annual membership 
 fee\nLunch is provided at $6 per person\n\nFor more information about seni
 or adult programming or to RSVP please contact Mia Klein at 757-452-3184 o
 r mklein@ujft.org
DTSTART;TZID=America/New_York:20240515T120000
DTEND;TZID=America/New_York:20240515T140000
END:VEVENT
END:VCALENDAR
