BEGIN:VCALENDAR
PRODID:-//eluceo/ical//2.0/EN
VERSION:2.0
CALSCALE:GREGORIAN
BEGIN:VEVENT
UID:d3997ad9c2debde851ba55c4dd0d5dfc
DTSTAMP:20260421T193928Z
SUMMARY:JCC Senior Club
DESCRIPTION:Simon Family JCC\nJCC Event Calendar\nhttps://jcc.jewishva.org/
 jcc-event-calendar/jcc-senior-club-featuring-467140\n\nJCC Seniors Club me
 ets on the 3rd Wednesday of each month\n12:00 p.m. - 2:00 p.m.\n$15 annual
  membership fee\nLunch is provided at $6 per person\n\nFor more informatio
 n about senior adult programming or to RSVP please contact Mia Klein at 75
 7-452-3184 or mklein@ujft.org
DTSTART;TZID=America/New_York:20240619T120000
DTEND;TZID=America/New_York:20240619T140000
END:VEVENT
END:VCALENDAR
