BEGIN:VCALENDAR
PRODID:-//eluceo/ical//2.0/EN
VERSION:2.0
CALSCALE:GREGORIAN
BEGIN:VEVENT
UID:a0441251f43d0ab35484f2b1a0845463
DTSTAMP:20260420T115458Z
SUMMARY:JCC Senior Club - Marie Johnson
DESCRIPTION:Simon Family JCC\nJCC Event Calendar\nhttps://jcc.jewishva.org/
 jcc-event-calendar/jcc-senior-club-featuring-473040\n\nJCC Senior club mem
 ber Marie Johnson provides a slide program of Malawi\, West Africa.\n\nJCC
  Seniors Club meets on the 3rd Wednesday of each month\n12:00 p.m. - 2:00 
 p.m.\n$15 annual membership fee\nLunch is provided at $6 per person\n\nFor
  more information about senior adult programming or to RSVP please contact
  Mia Klein at 757-452-3184 or mklein@ujft.org
DTSTART;TZID=America/New_York:20240821T120000
DTEND;TZID=America/New_York:20240821T140000
END:VEVENT
END:VCALENDAR
