BEGIN:VCALENDAR
PRODID:-//eluceo/ical//2.0/EN
VERSION:2.0
CALSCALE:GREGORIAN
BEGIN:VEVENT
UID:ecd0afb8016c68620436f1a6771c126c
DTSTAMP:20260425T025147Z
SUMMARY:JCC Seniors Club
DESCRIPTION:Simon Family JCC\nJCC Event Calendar\nhttps://jcc.jewishva.org/
 jcc-event-calendar/jcc-seniors-club-1673025181-451595\n\nThird Wednesday o
 f each month\n12:30 PM – 2:30 PM\n$15 annual membership fee\n$6 lunch\n\
 nEnjoy a meeting and catching up with friends over lunch while taking in a
  program!  With membership\, you will receive a monthly newsletter with up
 dates and information about programming including United Jewish Federation
  of Tidewater and Simon Family JCC's Lee and Bernard Jaffe Family Jewish B
 ook Festival\, Israel Today\, Annual Virginia Festival of Jewish Film\, th
 e Konikoff Center for Learning\, and...
DTSTART;TZID=America/New_York:20231115T120000
DTEND;TZID=America/New_York:20231115T143000
END:VEVENT
END:VCALENDAR
