BEGIN:VCALENDAR
PRODID:-//eluceo/ical//2.0/EN
VERSION:2.0
CALSCALE:GREGORIAN
BEGIN:VEVENT
UID:aba3e94b5ed4e456a9c49eed9e2d553f
DTSTAMP:20260423T032700Z
SUMMARY:Virginia College Campuses Today: A Statewide Jewish Community Brief
 ing
DESCRIPTION:Simon Family JCC\nJCC Event Calendar\nhttps://jcc.jewishva.org/
 jcc-event-calendar/jcrc---statewide-zoom1710873097-462415\n\nThe statewide
  organized Virginia Jewish communities featuring professionals and student
 s from Hillel International and Virginia Hillels will present an essential
  briefing about the current university campus climate for Jewish college s
 tudents. Learn how communities are working to support\, protect\, and empo
 wer Jewish students on Virginia campuses today.  Open to all who care dee
 ply about vibrant Jewish life on campus and Jewish college students\, this
  online briefing is free to attend with pre...
DTSTART;TZID=America/New_York:20240417T193000
DTEND;TZID=America/New_York:20240417T203000
END:VEVENT
END:VCALENDAR
