BEGIN:VCALENDAR
PRODID:-//eluceo/ical//2.0/EN
VERSION:2.0
CALSCALE:GREGORIAN
BEGIN:VEVENT
UID:5d56d173228bf4309304a46c6e03d332
DTSTAMP:20260424T011203Z
SUMMARY:JCRC Insiders Briefing
DESCRIPTION:Simon Family JCC\nJCC Event Calendar\nhttps://jcc.jewishva.org/
 jcc-event-calendar/jcrc-insiders-briefing-1688738253-442646\n\nJCRC Advoca
 cy Day Briefing.  \n\nPlease allow widget below to load.\n\n 
DTSTART;TZID=America/New_York:20240201T120000
DTEND;TZID=America/New_York:20240201T140000
END:VEVENT
END:VCALENDAR
