BEGIN:VCALENDAR
PRODID:-//eluceo/ical//2.0/EN
VERSION:2.0
CALSCALE:GREGORIAN
BEGIN:VEVENT
UID:924371db5ea3f3e07274625ee940262e
DTSTAMP:20260420T004838Z
SUMMARY:Eddie Shapiro: Jewish Book Festival
DESCRIPTION:Simon Family JCC\nJCC Event Calendar\nhttps://jcc.jewishva.org/
 jcc-event-calendar/jewish-book-festival-1712942390-464358\n\nEddie Shapiro
 \, author of Here&#39\;s to the Ladies\n\nPlease allow a moment for inform
 ation and registration to load below.
DTSTART;TZID=America/New_York:20241204T193000
DTEND;TZID=America/New_York:20241204T213000
END:VEVENT
END:VCALENDAR
