BEGIN:VCALENDAR
PRODID:-//eluceo/ical//2.0/EN
VERSION:2.0
CALSCALE:GREGORIAN
BEGIN:VEVENT
UID:4b2b7666133f13977459656b003d55b2
DTSTAMP:20260424T130604Z
SUMMARY:Jewish Storytime at Van Wyck Library in Ghent
DESCRIPTION:Simon Family JCC\nJCC Event Calendar\nhttps://jcc.jewishva.org/
 jcc-event-calendar/jewish-storytime-at-van-wyck-library-in-ghent-170424729
 8-456728\n\nPlease join us for a special Jewish-themed Storytime with PJ L
 ibrary. Celebrate Jewish culture through stories\, songs\, crafts\, commun
 ity and fun!\nSelect Tuesdays @4-5:30pm\nApril 9\nMay 21\nJune 18
DTSTART;TZID=America/New_York:20240409T160000
DTEND;TZID=America/New_York:20240409T173000
END:VEVENT
END:VCALENDAR
