BEGIN:VCALENDAR
PRODID:-//eluceo/ical//2.0/EN
VERSION:2.0
CALSCALE:GREGORIAN
BEGIN:VEVENT
UID:a6802b5964e6db9c9c19bdc410973f1b
DTSTAMP:20260421T091932Z
SUMMARY:Jewish Storytime at Van Wyck Library in Ghent
DESCRIPTION:Simon Family JCC\nJCC Event Calendar\nhttps://jcc.jewishva.org/
 jcc-event-calendar/jewish-storytime-at-van-wyck-library-in-ghent-170424744
 6-456730\n\nPlease join us for a special Jewish-themed Storytime with PJ L
 ibrary. Celebrate Jewish culture through stories\, songs\, crafts\, commun
 ity and fun!\nSelect Tuesdays @4-5:30pm
DTSTART;TZID=America/New_York:20240618T160000
DTEND;TZID=America/New_York:20240618T173000
END:VEVENT
END:VCALENDAR
