BEGIN:VCALENDAR
PRODID:-//eluceo/ical//2.0/EN
VERSION:2.0
CALSCALE:GREGORIAN
BEGIN:VEVENT
UID:20b2ed4894feec2d48ca3c4ddc30d8be
DTSTAMP:20260424T005053Z
SUMMARY:Kids Night Out
DESCRIPTION:Simon Family JCC\nJCC Event Calendar\nhttps://jcc.jewishva.org/
 jcc-event-calendar/kids-night-out-5-446991\n\nKids Night out!\n\nPlease wa
 it for info below to load.
DTSTART;TZID=America/New_York:20240120T180000
DTEND;TZID=America/New_York:20240120T220000
END:VEVENT
END:VCALENDAR
