BEGIN:VCALENDAR
PRODID:-//eluceo/ical//2.0/EN
VERSION:2.0
CALSCALE:GREGORIAN
BEGIN:VEVENT
UID:ecb6b2f54590180c7a78c6bfafb64961
DTSTAMP:20260422T163643Z
SUMMARY:Kids Night Out
DESCRIPTION:Simon Family JCC\nJCC Event Calendar\nhttps://jcc.jewishva.org/
 jcc-event-calendar/kids-night-out-9-446995\n\nNeed a date night?\n\nKids N
 ight Out is a fun night for everyone! Kids will enjoy a night full of game
 s\, crafts\, snacks\, and swimming. Saturday Nights\, from 6-10 PM.\n\nFor
  JCC Members | Children aged 4 to 12\n$20 per child/$15 for siblings (max 
 $50/household)\n\nPotential JCC Members | Children aged 4 to 12\n$25 per c
 hild/$20 for siblings (max $65/household)\n\nRegister Today
DTSTART;TZID=America/New_York:20240420T180000
DTEND;TZID=America/New_York:20240420T220000
END:VEVENT
END:VCALENDAR
