BEGIN:VCALENDAR
PRODID:-//eluceo/ical//2.0/EN
VERSION:2.0
CALSCALE:GREGORIAN
BEGIN:VEVENT
UID:21c7b029a639a6724255a29becca1985
DTSTAMP:20260424T043539Z
SUMMARY:Christopher C. Gorham - The Confidante
DESCRIPTION:Simon Family JCC\nJCC Event Calendar\nhttps://jcc.jewishva.org/
 jcc-event-calendar/konikoff-center-for-learning-program-1687547957-441456\
 n\nChristopher C. Gorham - The Confidante: The Untold Story of the Woman W
 ho Helped Win WWII and Shape Modern America\n\nAnna M. Rosenberg played vi
 tal roles advising presidents through the Depression\, World War II\, the 
 Korean War\, the Civil Rights movement\, the Great Society\, and more. Tod
 ay\, Anna Rosenberg is mostly unknown.\n\nNevertheless\, the story of this
  &#39\;pint-sized hurricane&#39\; is a remarkable one. It is told in an en
 gaging\, dramatic manner that allows the author to convey the dynamism\, e
 n...
DTSTART;TZID=America/New_York:20240129T184500
DTEND;TZID=America/New_York:20240129T194500
END:VEVENT
END:VCALENDAR
