BEGIN:VCALENDAR
PRODID:-//eluceo/ical//2.0/EN
VERSION:2.0
CALSCALE:GREGORIAN
BEGIN:VEVENT
UID:46ceee6b67711a1113b675f38996ca8f
DTSTAMP:20260423T081810Z
SUMMARY:Allison Gilbert - Listen World!
DESCRIPTION:Simon Family JCC\nJCC Event Calendar\nhttps://jcc.jewishva.org/
 jcc-event-calendar/konikoff-center-for-learning-program-1687548001-441457\
 n\nAllsion Gilbert - Listen World! How the Intrepid Elsie Robinson Became 
 America&#39\;s Most-Read Woman\n\n \n\nMore information to come.
DTSTART;TZID=America/New_York:20240325T184500
DTEND;TZID=America/New_York:20240325T194500
END:VEVENT
END:VCALENDAR
